BEGIN:VCALENDAR
VERSION:2.0
PRODID:icalendar-ruby
CALSCALE:GREGORIAN
METHOD:PUBLISH
BEGIN:VEVENT
DTSTAMP:20260422T142838Z
UID:60-196404@edencommunity.tithelysetup5.com
DTSTART:20260424T230000Z
DTEND:20260425T000000Z
CLASS:PUBLIC
CREATED:20260422T122552
DESCRIPTION:Join us as we rember those who sacrificed their lives for us
LAST-MODIFIED:20260422T122552
LOCATION:Mt Eden War Memorial Hall
SUMMARY:Anzac Service
URL;VALUE=URI:https://edenchurch.nz/events/anzac-service/2026-04-25
ATTACH;FILENAME=poppy-4.png;FMTTYPE=image/png:https://dq5pwpg1q8ru0.cloudfr
 ont.net/2026/04/22/00/25/52/638db887-d388-4430-a4b1-62e76828d3b6/poppy-4.p
 ng
END:VEVENT
END:VCALENDAR
