BEGIN:VCALENDAR
VERSION:2.0
PRODID:icalendar-ruby
CALSCALE:GREGORIAN
METHOD:PUBLISH
BEGIN:VEVENT
DTSTAMP:20260424T182729Z
UID:5-197974@edencommunity.tithelysetup5.com
DTSTART:20260725T220000Z
DTEND:20260725T233000Z
CLASS:PUBLIC
CREATED:20260425T055645
DESCRIPTION:Sunday Worship
LAST-MODIFIED:20260425T055645
LOCATION:Eden Church
SUMMARY:Sunday Service
URL;VALUE=URI:https://edenchurch.nz/events/sunday-service/2026-07-26
END:VEVENT
END:VCALENDAR
