BEGIN:VCALENDAR
VERSION:2.0
PRODID:icalendar-ruby
CALSCALE:GREGORIAN
METHOD:PUBLISH
BEGIN:VEVENT
DTSTAMP:20260424T200155Z
UID:5-197975@edencommunity.tithelysetup5.com
DTSTART:20260801T220000Z
DTEND:20260801T233000Z
CLASS:PUBLIC
CREATED:20260425T055645
DESCRIPTION:Sunday Worship
LAST-MODIFIED:20260425T055645
LOCATION:Eden Church
SUMMARY:Sunday Service
URL;VALUE=URI:https://edenchurch.nz/events/sunday-service/2026-08-02
END:VEVENT
END:VCALENDAR
